BEGIN:VCALENDAR
VERSION:2.0
PRODID:-//Mountain Vista Unitarian Universalist Congregation - ECPv6.15.20//NONSGML v1.0//EN
CALSCALE:GREGORIAN
METHOD:PUBLISH
X-WR-CALNAME:Mountain Vista Unitarian Universalist Congregation
X-ORIGINAL-URL:https://mvuu.org
X-WR-CALDESC:Events for Mountain Vista Unitarian Universalist Congregation
REFRESH-INTERVAL;VALUE=DURATION:PT1H
X-Robots-Tag:noindex
X-PUBLISHED-TTL:PT1H
BEGIN:VTIMEZONE
TZID:America/Phoenix
BEGIN:STANDARD
TZOFFSETFROM:-0700
TZOFFSETTO:-0700
TZNAME:MST
DTSTART:20200101T000000
END:STANDARD
END:VTIMEZONE
BEGIN:VEVENT
DTSTART;TZID=America/Phoenix:20210727T190000
DTEND;TZID=America/Phoenix:20210727T200000
DTSTAMP:20260425T164047
CREATED:20210709T191635Z
LAST-MODIFIED:20210709T191649Z
UID:7822-1627412400-1627416000@mvuu.org
SUMMARY:Men's Night Out (Virtual)
DESCRIPTION:
URL:https://mvuu.org/event/mens-night-out-virtual-4/
END:VEVENT
BEGIN:VEVENT
DTSTART;TZID=America/Phoenix:20210725T110000
DTEND;TZID=America/Phoenix:20210725T120000
DTSTAMP:20260425T164047
CREATED:20210614T192844Z
LAST-MODIFIED:20210614T192844Z
UID:7719-1627210800-1627214400@mvuu.org
SUMMARY:Fellowship Hour Online
DESCRIPTION:
URL:https://mvuu.org/event/fellowship-hour-online-28/
END:VEVENT
BEGIN:VEVENT
DTSTART;TZID=America/Phoenix:20210725T100000
DTEND;TZID=America/Phoenix:20210725T110000
DTSTAMP:20260425T164047
CREATED:20210614T192432Z
LAST-MODIFIED:20210614T192432Z
UID:7693-1627207200-1627210800@mvuu.org
SUMMARY:Sunday Service Online
DESCRIPTION:
URL:https://mvuu.org/event/sunday-service-online-39/
END:VEVENT
BEGIN:VEVENT
DTSTART;TZID=America/Phoenix:20210725T081500
DTEND;TZID=America/Phoenix:20210725T095000
DTSTAMP:20260425T164047
CREATED:20210614T191317Z
LAST-MODIFIED:20210614T191921Z
UID:7649-1627200900-1627206600@mvuu.org
SUMMARY:Sunday Book Group Online
DESCRIPTION:
URL:https://mvuu.org/event/sunday-book-group-online-47/
END:VEVENT
BEGIN:VEVENT
DTSTART;TZID=America/Phoenix:20210722T173000
DTEND;TZID=America/Phoenix:20210722T173000
DTSTAMP:20260425T164047
CREATED:20201212T002637Z
LAST-MODIFIED:20201212T002637Z
UID:6755-1626975000-1626975000@mvuu.org
SUMMARY:MVUU Board Meeting
DESCRIPTION:
URL:https://mvuu.org/event/mvuu-board-meeting-8/
END:VEVENT
BEGIN:VEVENT
DTSTART;TZID=America/Phoenix:20210720T190000
DTEND;TZID=America/Phoenix:20210720T200000
DTSTAMP:20260425T164047
CREATED:20210709T191555Z
LAST-MODIFIED:20210709T191555Z
UID:7819-1626807600-1626811200@mvuu.org
SUMMARY:Men's Night Out (Virtual)
DESCRIPTION:
URL:https://mvuu.org/event/mens-night-out-virtual-3/
END:VEVENT
BEGIN:VEVENT
DTSTART;TZID=America/Phoenix:20210718T110000
DTEND;TZID=America/Phoenix:20210718T120000
DTSTAMP:20260425T164047
CREATED:20210614T192821Z
LAST-MODIFIED:20210614T192821Z
UID:7717-1626606000-1626609600@mvuu.org
SUMMARY:Fellowship Hour Online
DESCRIPTION:
URL:https://mvuu.org/event/fellowship-hour-online-27/
END:VEVENT
BEGIN:VEVENT
DTSTART;TZID=America/Phoenix:20210718T100000
DTEND;TZID=America/Phoenix:20210718T110000
DTSTAMP:20260425T164047
CREATED:20210614T192411Z
LAST-MODIFIED:20210614T192411Z
UID:7690-1626602400-1626606000@mvuu.org
SUMMARY:Sunday Service Online
DESCRIPTION:
URL:https://mvuu.org/event/sunday-service-online-38/
END:VEVENT
BEGIN:VEVENT
DTSTART;TZID=America/Phoenix:20210718T081500
DTEND;TZID=America/Phoenix:20210718T095000
DTSTAMP:20260425T164047
CREATED:20210614T191242Z
LAST-MODIFIED:20210614T192033Z
UID:7646-1626596100-1626601800@mvuu.org
SUMMARY:Sunday Book Group Online
DESCRIPTION:
URL:https://mvuu.org/event/sunday-book-group-online-46/
END:VEVENT
BEGIN:VEVENT
DTSTART;TZID=America/Phoenix:20210713T190000
DTEND;TZID=America/Phoenix:20210713T200000
DTSTAMP:20260425T164047
CREATED:20210709T191501Z
LAST-MODIFIED:20210709T191501Z
UID:7816-1626202800-1626206400@mvuu.org
SUMMARY:Men's Night Out (Virtual)
DESCRIPTION:
URL:https://mvuu.org/event/mens-night-out-virtual-2/
END:VEVENT
BEGIN:VEVENT
DTSTART;TZID=America/Phoenix:20210711T110000
DTEND;TZID=America/Phoenix:20210711T120000
DTSTAMP:20260425T164047
CREATED:20210614T192753Z
LAST-MODIFIED:20210614T192753Z
UID:7714-1626001200-1626004800@mvuu.org
SUMMARY:Fellowship Hour Online
DESCRIPTION:
URL:https://mvuu.org/event/fellowship-hour-online-26/
END:VEVENT
BEGIN:VEVENT
DTSTART;TZID=America/Phoenix:20210711T100000
DTEND;TZID=America/Phoenix:20210711T110000
DTSTAMP:20260425T164047
CREATED:20210614T192347Z
LAST-MODIFIED:20210614T192347Z
UID:7687-1625997600-1626001200@mvuu.org
SUMMARY:Sunday Service Online
DESCRIPTION:
URL:https://mvuu.org/event/sunday-service-online-37/
END:VEVENT
BEGIN:VEVENT
DTSTART;TZID=America/Phoenix:20210711T081500
DTEND;TZID=America/Phoenix:20210711T095000
DTSTAMP:20260425T164047
CREATED:20210614T191202Z
LAST-MODIFIED:20210614T192059Z
UID:7643-1625991300-1625997000@mvuu.org
SUMMARY:Sunday Book Group Online
DESCRIPTION:
URL:https://mvuu.org/event/sunday-book-group-online-45/
END:VEVENT
BEGIN:VEVENT
DTSTART;TZID=America/Phoenix:20210707T183000
DTEND;TZID=America/Phoenix:20210707T193000
DTSTAMP:20260425T164047
CREATED:20210702T182054Z
LAST-MODIFIED:20210702T182054Z
UID:7802-1625682600-1625686200@mvuu.org
SUMMARY:MVUU Poetry Group Online
DESCRIPTION:
URL:https://mvuu.org/event/mvuu-poetry-group-online/
END:VEVENT
BEGIN:VEVENT
DTSTART;TZID=America/Phoenix:20210706T190000
DTEND;TZID=America/Phoenix:20210706T200000
DTSTAMP:20260425T164047
CREATED:20210702T181947Z
LAST-MODIFIED:20210702T181947Z
UID:7799-1625598000-1625601600@mvuu.org
SUMMARY:Men's Night Out (Virtual)
DESCRIPTION:
URL:https://mvuu.org/event/mens-night-out-virtual/
END:VEVENT
BEGIN:VEVENT
DTSTART;TZID=America/Phoenix:20210706T140000
DTEND;TZID=America/Phoenix:20210706T150000
DTSTAMP:20260425T164047
CREATED:20210702T181830Z
LAST-MODIFIED:20210702T181830Z
UID:7796-1625580000-1625583600@mvuu.org
SUMMARY:Chronic Pain Support Group
DESCRIPTION:
URL:https://mvuu.org/event/chronic-pain-support-group-5/
END:VEVENT
BEGIN:VEVENT
DTSTART;TZID=America/Phoenix:20210704T110000
DTEND;TZID=America/Phoenix:20210704T120000
DTSTAMP:20260425T164047
CREATED:20210614T192729Z
LAST-MODIFIED:20210614T192729Z
UID:7711-1625396400-1625400000@mvuu.org
SUMMARY:Fellowship Hour Online
DESCRIPTION:
URL:https://mvuu.org/event/fellowship-hour-online-14/
END:VEVENT
BEGIN:VEVENT
DTSTART;TZID=America/Phoenix:20210704T100000
DTEND;TZID=America/Phoenix:20210704T110000
DTSTAMP:20260425T164047
CREATED:20210614T192322Z
LAST-MODIFIED:20210614T192322Z
UID:7684-1625392800-1625396400@mvuu.org
SUMMARY:Sunday Service Online
DESCRIPTION:
URL:https://mvuu.org/event/sunday-service-online-36/
END:VEVENT
BEGIN:VEVENT
DTSTART;TZID=America/Phoenix:20210704T081500
DTEND;TZID=America/Phoenix:20210704T095000
DTSTAMP:20260425T164047
CREATED:20210614T191135Z
LAST-MODIFIED:20210614T192130Z
UID:7640-1625386500-1625392200@mvuu.org
SUMMARY:Sunday Book Group Online
DESCRIPTION:
URL:https://mvuu.org/event/sunday-book-group-online-44/
END:VEVENT
BEGIN:VEVENT
DTSTART;TZID=America/Phoenix:20210629T190000
DTEND;TZID=America/Phoenix:20210629T200000
DTSTAMP:20260425T164047
CREATED:20210614T193159Z
LAST-MODIFIED:20210614T193159Z
UID:7738-1624993200-1624996800@mvuu.org
SUMMARY:Men's Night Out Online
DESCRIPTION:
URL:https://mvuu.org/event/mens-night-out-online-26/
END:VEVENT
BEGIN:VEVENT
DTSTART;TZID=America/Phoenix:20210627T110000
DTEND;TZID=America/Phoenix:20210627T120000
DTSTAMP:20260425T164047
CREATED:20210415T230258Z
LAST-MODIFIED:20210415T230258Z
UID:7457-1624791600-1624795200@mvuu.org
SUMMARY:Fellowship Hour Online
DESCRIPTION:
URL:https://mvuu.org/event/fellowship-hour-online-25/
END:VEVENT
BEGIN:VEVENT
DTSTART;TZID=America/Phoenix:20210627T100000
DTEND;TZID=America/Phoenix:20210627T110000
DTSTAMP:20260425T164047
CREATED:20210415T225349Z
LAST-MODIFIED:20210415T225349Z
UID:7412-1624788000-1624791600@mvuu.org
SUMMARY:Sunday Services Online
DESCRIPTION:
URL:https://mvuu.org/event/sunday-services-online-14/
END:VEVENT
BEGIN:VEVENT
DTSTART;TZID=America/Phoenix:20210627T081500
DTEND;TZID=America/Phoenix:20210627T095000
DTSTAMP:20260425T164047
CREATED:20210415T224321Z
LAST-MODIFIED:20210415T224321Z
UID:7370-1624781700-1624787400@mvuu.org
SUMMARY:Sunday Book Group Online
DESCRIPTION:
URL:https://mvuu.org/event/sunday-book-group-online-43/
END:VEVENT
BEGIN:VEVENT
DTSTART;TZID=America/Phoenix:20210622T190000
DTEND;TZID=America/Phoenix:20210622T200000
DTSTAMP:20260425T164047
CREATED:20210415T223056Z
LAST-MODIFIED:20210415T223056Z
UID:7330-1624388400-1624392000@mvuu.org
SUMMARY:Men's Night Out Online
DESCRIPTION:
URL:https://mvuu.org/event/mens-night-out-online-24/
END:VEVENT
BEGIN:VEVENT
DTSTART;TZID=America/Phoenix:20210622T150000
DTEND;TZID=America/Phoenix:20210622T160000
DTSTAMP:20260425T164047
CREATED:20210510T173836Z
LAST-MODIFIED:20210510T173836Z
UID:7546-1624374000-1624377600@mvuu.org
SUMMARY:Chronic Pain Support Group
DESCRIPTION:
URL:https://mvuu.org/event/chronic-pain-support-group-4/
END:VEVENT
BEGIN:VEVENT
DTSTART;TZID=America/Phoenix:20210620T110000
DTEND;TZID=America/Phoenix:20210620T120000
DTSTAMP:20260425T164047
CREATED:20210415T230232Z
LAST-MODIFIED:20210415T230232Z
UID:7454-1624186800-1624190400@mvuu.org
SUMMARY:Fellowship Hour Online
DESCRIPTION:
URL:https://mvuu.org/event/fellowship-hour-online-24/
END:VEVENT
BEGIN:VEVENT
DTSTART;TZID=America/Phoenix:20210620T100000
DTEND;TZID=America/Phoenix:20210620T110000
DTSTAMP:20260425T164047
CREATED:20210415T225301Z
LAST-MODIFIED:20210415T225301Z
UID:7409-1624183200-1624186800@mvuu.org
SUMMARY:Sunday Services Online
DESCRIPTION:
URL:https://mvuu.org/event/sunday-services-online-13/
END:VEVENT
BEGIN:VEVENT
DTSTART;TZID=America/Phoenix:20210620T081500
DTEND;TZID=America/Phoenix:20210620T095000
DTSTAMP:20260425T164047
CREATED:20210415T224112Z
LAST-MODIFIED:20210415T224112Z
UID:7367-1624176900-1624182600@mvuu.org
SUMMARY:Sunday Book Group Online
DESCRIPTION:
URL:https://mvuu.org/event/sunday-book-group-online-42/
END:VEVENT
BEGIN:VEVENT
DTSTART;TZID=America/Phoenix:20210617T173000
DTEND;TZID=America/Phoenix:20210617T173000
DTSTAMP:20260425T164047
CREATED:20201212T002114Z
LAST-MODIFIED:20201212T002114Z
UID:6752-1623951000-1623951000@mvuu.org
SUMMARY:MVUU Board Meeting
DESCRIPTION:
URL:https://mvuu.org/event/mvuu-board-meeting-7/
END:VEVENT
BEGIN:VEVENT
DTSTART;TZID=America/Phoenix:20210615T190000
DTEND;TZID=America/Phoenix:20210615T200000
DTSTAMP:20260425T164047
CREATED:20210415T223016Z
LAST-MODIFIED:20210415T223016Z
UID:7327-1623783600-1623787200@mvuu.org
SUMMARY:Men's Night Out Online
DESCRIPTION:
URL:https://mvuu.org/event/mens-night-out-online-23/
END:VEVENT
END:VCALENDAR