BEGIN:VCALENDAR
VERSION:2.0
PRODID:-//Mountain Vista Unitarian Universalist Congregation - ECPv6.15.20//NONSGML v1.0//EN
CALSCALE:GREGORIAN
METHOD:PUBLISH
X-WR-CALNAME:Mountain Vista Unitarian Universalist Congregation
X-ORIGINAL-URL:https://mvuu.org
X-WR-CALDESC:Events for Mountain Vista Unitarian Universalist Congregation
REFRESH-INTERVAL;VALUE=DURATION:PT1H
X-Robots-Tag:noindex
X-PUBLISHED-TTL:PT1H
BEGIN:VTIMEZONE
TZID:America/Phoenix
BEGIN:STANDARD
TZOFFSETFROM:-0700
TZOFFSETTO:-0700
TZNAME:MST
DTSTART:20200101T000000
END:STANDARD
END:VTIMEZONE
BEGIN:VEVENT
DTSTART;TZID=America/Phoenix:20211205T170000
DTEND;TZID=America/Phoenix:20211205T180000
DTSTAMP:20260424T095651
CREATED:20211203T170924Z
LAST-MODIFIED:20211203T170924Z
UID:8236-1638723600-1638727200@mvuu.org
SUMMARY:New Connection Dinner
DESCRIPTION:
URL:https://mvuu.org/event/new-connection-dinner/
END:VEVENT
BEGIN:VEVENT
DTSTART;TZID=America/Phoenix:20211205T140000
DTEND;TZID=America/Phoenix:20211205T150000
DTSTAMP:20260424T095651
CREATED:20211203T170837Z
LAST-MODIFIED:20211203T170837Z
UID:8233-1638712800-1638716400@mvuu.org
SUMMARY:MVUU LGBTQ+ Affinity Group
DESCRIPTION:
URL:https://mvuu.org/event/mvuu-lgbtq-affinity-group-2/
END:VEVENT
BEGIN:VEVENT
DTSTART;TZID=America/Phoenix:20211205T121500
DTEND;TZID=America/Phoenix:20211205T131500
DTSTAMP:20260424T095651
CREATED:20211027T195403Z
LAST-MODIFIED:20211027T195403Z
UID:8135-1638706500-1638710100@mvuu.org
SUMMARY:2nd Hour
DESCRIPTION:
URL:https://mvuu.org/event/2nd-hour-2/
END:VEVENT
BEGIN:VEVENT
DTSTART;TZID=America/Phoenix:20211205T103000
DTEND;TZID=America/Phoenix:20211205T113000
DTSTAMP:20260424T095651
CREATED:20210921T195311Z
LAST-MODIFIED:20210921T195311Z
UID:7921-1638700200-1638703800@mvuu.org
SUMMARY:Fellowship Hour Online
DESCRIPTION:
URL:https://mvuu.org/event/fellowship-hour-online-42/
END:VEVENT
BEGIN:VEVENT
DTSTART;TZID=America/Phoenix:20211205T081500
DTEND;TZID=America/Phoenix:20211205T095000
DTSTAMP:20260424T095651
CREATED:20211008T192522Z
LAST-MODIFIED:20211008T192522Z
UID:8062-1638692100-1638697800@mvuu.org
SUMMARY:Sunday Book Group
DESCRIPTION:
URL:https://mvuu.org/event/sunday-book-group-20/
END:VEVENT
BEGIN:VEVENT
DTSTART;TZID=America/Phoenix:20211204T140000
DTEND;TZID=America/Phoenix:20211204T170000
DTSTAMP:20260424T095651
CREATED:20211203T170655Z
LAST-MODIFIED:20211203T170747Z
UID:8230-1638626400-1638637200@mvuu.org
SUMMARY:Death with Dignity: A Conversation
DESCRIPTION:
URL:https://mvuu.org/event/death-with-dignity-a-conversation/
END:VEVENT
BEGIN:VEVENT
DTSTART;TZID=America/Phoenix:20211204T130000
DTEND;TZID=America/Phoenix:20211204T140000
DTSTAMP:20260424T095651
CREATED:20211203T170527Z
LAST-MODIFIED:20211203T170527Z
UID:8227-1638622800-1638626400@mvuu.org
SUMMARY:Parent & Guardians of Preschoolers (POPs)
DESCRIPTION:
URL:https://mvuu.org/event/parent-guardians-of-preschoolers-pops/
END:VEVENT
BEGIN:VEVENT
DTSTART;TZID=America/Phoenix:20211201T150000
DTEND;TZID=America/Phoenix:20211201T160000
DTSTAMP:20260424T095651
CREATED:20211122T185111Z
LAST-MODIFIED:20211122T185111Z
UID:8220-1638370800-1638374400@mvuu.org
SUMMARY:MVUU Poetry Group Meeting
DESCRIPTION:
URL:https://mvuu.org/event/mvuu-poetry-group-meeting/
END:VEVENT
BEGIN:VEVENT
DTSTART;TZID=America/Phoenix:20211130T190000
DTEND;TZID=America/Phoenix:20211130T200000
DTSTAMP:20260424T095651
CREATED:20211008T185951Z
LAST-MODIFIED:20211008T185951Z
UID:8017-1638298800-1638302400@mvuu.org
SUMMARY:Men's Night Out Online
DESCRIPTION:
URL:https://mvuu.org/event/mens-night-out-online-35/
END:VEVENT
BEGIN:VEVENT
DTSTART;TZID=America/Phoenix:20211130T140000
DTEND;TZID=America/Phoenix:20211130T150000
DTSTAMP:20260424T095651
CREATED:20211122T184734Z
LAST-MODIFIED:20211122T184734Z
UID:8216-1638280800-1638284400@mvuu.org
SUMMARY:Bookaholics Unanimous
DESCRIPTION:
URL:https://mvuu.org/event/bookaholics-unanimous-3/
END:VEVENT
BEGIN:VEVENT
DTSTART;TZID=America/Phoenix:20211128T103000
DTEND;TZID=America/Phoenix:20211128T113000
DTSTAMP:20260424T095651
CREATED:20210921T194317Z
LAST-MODIFIED:20210921T194317Z
UID:7888-1638095400-1638099000@mvuu.org
SUMMARY:Live Online Sunday Service & Fellowship Hour
DESCRIPTION:
URL:https://mvuu.org/event/live-online-sunday-service-fellowship-hour-5/
END:VEVENT
BEGIN:VEVENT
DTSTART;TZID=America/Phoenix:20211128T081500
DTEND;TZID=America/Phoenix:20211128T095000
DTSTAMP:20260424T095651
CREATED:20211008T192459Z
LAST-MODIFIED:20211008T192459Z
UID:8059-1638087300-1638093000@mvuu.org
SUMMARY:Sunday Book Group
DESCRIPTION:
URL:https://mvuu.org/event/sunday-book-group-19/
END:VEVENT
BEGIN:VEVENT
DTSTART;TZID=America/Phoenix:20211127T170000
DTEND;TZID=America/Phoenix:20211127T190000
DTSTAMP:20260424T095651
CREATED:20211122T184601Z
LAST-MODIFIED:20211122T184901Z
UID:8213-1638032400-1638039600@mvuu.org
SUMMARY:Friendsgiving
DESCRIPTION:
URL:https://mvuu.org/event/friendsgiving/
END:VEVENT
BEGIN:VEVENT
DTSTART;VALUE=DATE:20211125
DTEND;VALUE=DATE:20211127
DTSTAMP:20260424T095651
CREATED:20211122T184405Z
LAST-MODIFIED:20211122T184405Z
UID:8210-1637798400-1637971199@mvuu.org
SUMMARY:Thanksgiving Holiday (Office Closed)
DESCRIPTION:
URL:https://mvuu.org/event/thanksgiving-holiday-office-closed/
END:VEVENT
BEGIN:VEVENT
DTSTART;TZID=America/Phoenix:20211123T190000
DTEND;TZID=America/Phoenix:20211123T200000
DTSTAMP:20260424T095651
CREATED:20211008T185927Z
LAST-MODIFIED:20211008T185927Z
UID:8014-1637694000-1637697600@mvuu.org
SUMMARY:Men's Night Out Online
DESCRIPTION:
URL:https://mvuu.org/event/mens-night-out-online-34/
END:VEVENT
BEGIN:VEVENT
DTSTART;TZID=America/Phoenix:20211123T150000
DTEND;TZID=America/Phoenix:20211123T160000
DTSTAMP:20260424T095651
CREATED:20211101T191541Z
LAST-MODIFIED:20211101T191541Z
UID:8153-1637679600-1637683200@mvuu.org
SUMMARY:Chronic Pain Support Group
DESCRIPTION:
URL:https://mvuu.org/event/chronic-pain-support-group-9/
END:VEVENT
BEGIN:VEVENT
DTSTART;TZID=America/Phoenix:20211121T103000
DTEND;TZID=America/Phoenix:20211121T113000
DTSTAMP:20260424T095651
CREATED:20210921T195242Z
LAST-MODIFIED:20210921T195242Z
UID:7918-1637490600-1637494200@mvuu.org
SUMMARY:Fellowship Hour Online
DESCRIPTION:
URL:https://mvuu.org/event/fellowship-hour-online-41/
END:VEVENT
BEGIN:VEVENT
DTSTART;TZID=America/Phoenix:20211121T081500
DTEND;TZID=America/Phoenix:20211121T095000
DTSTAMP:20260424T095651
CREATED:20211008T192418Z
LAST-MODIFIED:20211008T192418Z
UID:8056-1637482500-1637488200@mvuu.org
SUMMARY:Sunday Book Group
DESCRIPTION:
URL:https://mvuu.org/event/sunday-book-group-18/
END:VEVENT
BEGIN:VEVENT
DTSTART;TZID=America/Phoenix:20211121T081500
DTEND;TZID=America/Phoenix:20211121T095000
DTSTAMP:20260424T095651
CREATED:20211008T190959Z
LAST-MODIFIED:20211008T190959Z
UID:8053-1637482500-1637488200@mvuu.org
SUMMARY:Sunday Book Group
DESCRIPTION:
URL:https://mvuu.org/event/sunday-book-group-17/
END:VEVENT
BEGIN:VEVENT
DTSTART;TZID=America/Phoenix:20211120T160000
DTEND;TZID=America/Phoenix:20211120T170000
DTSTAMP:20260424T095651
CREATED:20211112T171227Z
LAST-MODIFIED:20211112T171227Z
UID:8200-1637424000-1637427600@mvuu.org
SUMMARY:New Caring Hearts Circle Start Up!
DESCRIPTION:
URL:https://mvuu.org/event/new-caring-hearts-circle-start-up/
END:VEVENT
BEGIN:VEVENT
DTSTART;TZID=America/Phoenix:20211120T110000
DTEND;TZID=America/Phoenix:20211120T150000
DTSTAMP:20260424T095651
CREATED:20211101T193609Z
LAST-MODIFIED:20211112T171142Z
UID:8169-1637406000-1637420400@mvuu.org
SUMMARY:New Minister Workshop: Beyond Categorical Thinking
DESCRIPTION:
URL:https://mvuu.org/event/ministerial-search-workshop/
END:VEVENT
BEGIN:VEVENT
DTSTART;TZID=America/Phoenix:20211119T120000
DTEND;TZID=America/Phoenix:20211119T130000
DTSTAMP:20260424T095651
CREATED:20211101T192713Z
LAST-MODIFIED:20211101T192713Z
UID:8166-1637323200-1637326800@mvuu.org
SUMMARY:Book GroUUp Fall 2021
DESCRIPTION:
URL:https://mvuu.org/event/book-grouup-fall-2021/
END:VEVENT
BEGIN:VEVENT
DTSTART;TZID=America/Phoenix:20211118T173000
DTEND;TZID=America/Phoenix:20211118T173000
DTSTAMP:20260424T095651
CREATED:20201212T003128Z
LAST-MODIFIED:20201212T003128Z
UID:6770-1637256600-1637256600@mvuu.org
SUMMARY:MVUU Board Meeting
DESCRIPTION:
URL:https://mvuu.org/event/mvuu-board-meeting-13/
END:VEVENT
BEGIN:VEVENT
DTSTART;TZID=America/Phoenix:20211118T120000
DTEND;TZID=America/Phoenix:20211118T130000
DTSTAMP:20260424T095651
CREATED:20211112T171022Z
LAST-MODIFIED:20211112T171022Z
UID:8195-1637236800-1637240400@mvuu.org
SUMMARY:MVUU Snowbirds & UUCT TBIRDs Picnic
DESCRIPTION:
URL:https://mvuu.org/event/mvuu-snowbirds-uuct-tbirds-picnic/
END:VEVENT
BEGIN:VEVENT
DTSTART;TZID=America/Phoenix:20211118T110000
DTEND;TZID=America/Phoenix:20211118T113000
DTSTAMP:20260424T095651
CREATED:20211027T194958Z
LAST-MODIFIED:20211027T194958Z
UID:8126-1637233200-1637235000@mvuu.org
SUMMARY:Laughter Yoga
DESCRIPTION:
URL:https://mvuu.org/event/laughter-yoga-5/
END:VEVENT
BEGIN:VEVENT
DTSTART;TZID=America/Phoenix:20211117T183000
DTEND;TZID=America/Phoenix:20211117T200000
DTSTAMP:20260424T095651
CREATED:20211112T170643Z
LAST-MODIFIED:20211112T170643Z
UID:8192-1637173800-1637179200@mvuu.org
SUMMARY:The Hearth: November Nourish UU Dinner
DESCRIPTION:
URL:https://mvuu.org/event/the-hearth-november-nourish-uu-dinner/
END:VEVENT
BEGIN:VEVENT
DTSTART;TZID=America/Phoenix:20211116T190000
DTEND;TZID=America/Phoenix:20211116T200000
DTSTAMP:20260424T095651
CREATED:20211008T185837Z
LAST-MODIFIED:20211008T185837Z
UID:8011-1637089200-1637092800@mvuu.org
SUMMARY:Men's Night Out Online
DESCRIPTION:
URL:https://mvuu.org/event/mens-night-out-online-33/
END:VEVENT
BEGIN:VEVENT
DTSTART;TZID=America/Phoenix:20211116T110000
DTEND;TZID=America/Phoenix:20211116T113000
DTSTAMP:20260424T095651
CREATED:20211027T194855Z
LAST-MODIFIED:20211027T194855Z
UID:8123-1637060400-1637062200@mvuu.org
SUMMARY:Laughter Yoga
DESCRIPTION:
URL:https://mvuu.org/event/laughter-yoga-4/
END:VEVENT
BEGIN:VEVENT
DTSTART;TZID=America/Phoenix:20211116T100000
DTEND;TZID=America/Phoenix:20211116T110000
DTSTAMP:20260424T095651
CREATED:20211112T170507Z
LAST-MODIFIED:20211112T170507Z
UID:8189-1637056800-1637060400@mvuu.org
SUMMARY:Caring Hearts Circles Leaders Meeting
DESCRIPTION:
URL:https://mvuu.org/event/caring-hearts-circles-leaders-meeting/
END:VEVENT
BEGIN:VEVENT
DTSTART;TZID=America/Phoenix:20211114T103000
DTEND;TZID=America/Phoenix:20211114T113000
DTSTAMP:20260424T095651
CREATED:20210921T194253Z
LAST-MODIFIED:20210921T194253Z
UID:7885-1636885800-1636889400@mvuu.org
SUMMARY:Live Online Sunday Service & Fellowship Hour
DESCRIPTION:
URL:https://mvuu.org/event/live-online-sunday-service-fellowship-hour-4/
END:VEVENT
END:VCALENDAR