BEGIN:VCALENDAR
VERSION:2.0
PRODID:-//Mountain Vista Unitarian Universalist Congregation - ECPv6.15.20//NONSGML v1.0//EN
CALSCALE:GREGORIAN
METHOD:PUBLISH
X-WR-CALNAME:Mountain Vista Unitarian Universalist Congregation
X-ORIGINAL-URL:https://mvuu.org
X-WR-CALDESC:Events for Mountain Vista Unitarian Universalist Congregation
REFRESH-INTERVAL;VALUE=DURATION:PT1H
X-Robots-Tag:noindex
X-PUBLISHED-TTL:PT1H
BEGIN:VTIMEZONE
TZID:America/Phoenix
BEGIN:STANDARD
TZOFFSETFROM:-0700
TZOFFSETTO:-0700
TZNAME:MST
DTSTART:20200101T000000
END:STANDARD
END:VTIMEZONE
BEGIN:VEVENT
DTSTART;TZID=America/Phoenix:20220111T190000
DTEND;TZID=America/Phoenix:20220111T200000
DTSTAMP:20260423T233236
CREATED:20220103T202549Z
LAST-MODIFIED:20220103T202802Z
UID:8437-1641927600-1641931200@mvuu.org
SUMMARY:Men's Night Out
DESCRIPTION:
URL:https://mvuu.org/event/mens-night-out-2/
END:VEVENT
BEGIN:VEVENT
DTSTART;TZID=America/Phoenix:20220110T100000
DTEND;TZID=America/Phoenix:20220110T110000
DTSTAMP:20260423T233236
CREATED:20220103T201950Z
LAST-MODIFIED:20220103T201950Z
UID:8422-1641808800-1641812400@mvuu.org
SUMMARY:Dance for Healing
DESCRIPTION:
URL:https://mvuu.org/event/dance-for-healing-4/
END:VEVENT
BEGIN:VEVENT
DTSTART;TZID=America/Phoenix:20220109T140000
DTEND;TZID=America/Phoenix:20220109T150000
DTSTAMP:20260423T233236
CREATED:20220103T201813Z
LAST-MODIFIED:20220103T201813Z
UID:8416-1641736800-1641740400@mvuu.org
SUMMARY:LGBTQ+ Affinity Group Discussion
DESCRIPTION:
URL:https://mvuu.org/event/lgbtq-affinity-group-discussion-2/
END:VEVENT
BEGIN:VEVENT
DTSTART;TZID=America/Phoenix:20220109T121500
DTEND;TZID=America/Phoenix:20220109T133000
DTSTAMP:20260423T233236
CREATED:20220103T201610Z
LAST-MODIFIED:20220103T201703Z
UID:8412-1641730500-1641735000@mvuu.org
SUMMARY:2nd Hour
DESCRIPTION:
URL:https://mvuu.org/event/2nd-hour-3/
END:VEVENT
BEGIN:VEVENT
DTSTART;TZID=America/Phoenix:20220109T103000
DTEND;TZID=America/Phoenix:20220109T113000
DTSTAMP:20260423T233236
CREATED:20220103T200551Z
LAST-MODIFIED:20220103T200551Z
UID:8373-1641724200-1641727800@mvuu.org
SUMMARY:Sunday Service & Fellowship Hour
DESCRIPTION:
URL:https://mvuu.org/event/sunday-service-fellowship-hour-2/
END:VEVENT
BEGIN:VEVENT
DTSTART;TZID=America/Phoenix:20220109T081500
DTEND;TZID=America/Phoenix:20220109T095000
DTSTAMP:20260423T233236
CREATED:20220103T195132Z
LAST-MODIFIED:20220103T195132Z
UID:8334-1641716100-1641721800@mvuu.org
SUMMARY:Sunday Book Group
DESCRIPTION:
URL:https://mvuu.org/event/sunday-book-group-25/
END:VEVENT
BEGIN:VEVENT
DTSTART;TZID=America/Phoenix:20220108T130000
DTEND;TZID=America/Phoenix:20220108T140000
DTSTAMP:20260423T233236
CREATED:20220103T203440Z
LAST-MODIFIED:20220103T203440Z
UID:8470-1641646800-1641650400@mvuu.org
SUMMARY:Parent's of Preschoolers (POPs) Children Story Time
DESCRIPTION:
URL:https://mvuu.org/event/parents-of-preschoolers-pops-children-story-time/
END:VEVENT
BEGIN:VEVENT
DTSTART;TZID=America/Phoenix:20220104T190000
DTEND;TZID=America/Phoenix:20220104T200000
DTSTAMP:20260423T233236
CREATED:20220103T202523Z
LAST-MODIFIED:20220103T202523Z
UID:8434-1641322800-1641326400@mvuu.org
SUMMARY:Men's Night Out
DESCRIPTION:
URL:https://mvuu.org/event/mens-night-out/
END:VEVENT
BEGIN:VEVENT
DTSTART;TZID=America/Phoenix:20220103T100000
DTEND;TZID=America/Phoenix:20220103T110000
DTSTAMP:20260423T233236
CREATED:20220103T201929Z
LAST-MODIFIED:20220103T201929Z
UID:8419-1641204000-1641207600@mvuu.org
SUMMARY:Dance for Healing
DESCRIPTION:
URL:https://mvuu.org/event/dance-for-healing-3/
END:VEVENT
BEGIN:VEVENT
DTSTART;TZID=America/Phoenix:20220102T103000
DTEND;TZID=America/Phoenix:20220102T113000
DTSTAMP:20260423T233236
CREATED:20220103T200521Z
LAST-MODIFIED:20220103T200521Z
UID:8370-1641119400-1641123000@mvuu.org
SUMMARY:Sunday Service & Fellowship Hour
DESCRIPTION:
URL:https://mvuu.org/event/sunday-service-fellowship-hour/
END:VEVENT
BEGIN:VEVENT
DTSTART;TZID=America/Phoenix:20220102T081500
DTEND;TZID=America/Phoenix:20220102T095000
DTSTAMP:20260423T233236
CREATED:20220103T195043Z
LAST-MODIFIED:20220103T195043Z
UID:8331-1641111300-1641117000@mvuu.org
SUMMARY:Sunday Book Group
DESCRIPTION:
URL:https://mvuu.org/event/sunday-book-group-24/
END:VEVENT
BEGIN:VEVENT
DTSTART;TZID=America/Phoenix:20211226T103000
DTEND;TZID=America/Phoenix:20211226T113000
DTSTAMP:20260423T233236
CREATED:20210921T194409Z
LAST-MODIFIED:20210921T194409Z
UID:7894-1640514600-1640518200@mvuu.org
SUMMARY:Live Online Sunday Service & Fellowship Hour
DESCRIPTION:
URL:https://mvuu.org/event/live-online-sunday-service-fellowship-hour-7/
END:VEVENT
BEGIN:VEVENT
DTSTART;TZID=America/Phoenix:20211226T081500
DTEND;TZID=America/Phoenix:20211226T095000
DTSTAMP:20260423T233236
CREATED:20211008T192632Z
LAST-MODIFIED:20211008T192632Z
UID:8071-1640506500-1640512200@mvuu.org
SUMMARY:Sunday Book Group
DESCRIPTION:
URL:https://mvuu.org/event/sunday-book-group-23/
END:VEVENT
BEGIN:VEVENT
DTSTART;TZID=America/Phoenix:20211224T180000
DTEND;TZID=America/Phoenix:20211224T190000
DTSTAMP:20260423T233236
CREATED:20211220T162719Z
LAST-MODIFIED:20211220T162719Z
UID:8317-1640368800-1640372400@mvuu.org
SUMMARY:MVUU Special Holiday Service 2
DESCRIPTION:
URL:https://mvuu.org/event/mvuu-special-holiday-service-2/
END:VEVENT
BEGIN:VEVENT
DTSTART;TZID=America/Phoenix:20211224T160000
DTEND;TZID=America/Phoenix:20211224T170000
DTSTAMP:20260423T233236
CREATED:20211220T162623Z
LAST-MODIFIED:20211220T162829Z
UID:8314-1640361600-1640365200@mvuu.org
SUMMARY:MVUU Special Holiday Service 1
DESCRIPTION:
URL:https://mvuu.org/event/mvuu-special-holiday-service/
END:VEVENT
BEGIN:VEVENT
DTSTART;TZID=America/Phoenix:20211221T190000
DTEND;TZID=America/Phoenix:20211221T200000
DTSTAMP:20260423T233236
CREATED:20211008T190139Z
LAST-MODIFIED:20211008T190139Z
UID:8026-1640113200-1640116800@mvuu.org
SUMMARY:Men's Night Out Online
DESCRIPTION:
URL:https://mvuu.org/event/mens-night-out-online-38/
END:VEVENT
BEGIN:VEVENT
DTSTART;TZID=America/Phoenix:20211221T150000
DTEND;TZID=America/Phoenix:20211221T160000
DTSTAMP:20260423T233236
CREATED:20211101T191700Z
LAST-MODIFIED:20211101T191700Z
UID:8159-1640098800-1640102400@mvuu.org
SUMMARY:Chronic Pain Support Group
DESCRIPTION:
URL:https://mvuu.org/event/chronic-pain-support-group-11/
END:VEVENT
BEGIN:VEVENT
DTSTART;TZID=America/Phoenix:20211220T100000
DTEND;TZID=America/Phoenix:20211220T110000
DTSTAMP:20260423T233236
CREATED:20211220T162522Z
LAST-MODIFIED:20211220T162522Z
UID:8311-1639994400-1639998000@mvuu.org
SUMMARY:Dance for Healing
DESCRIPTION:
URL:https://mvuu.org/event/dance-for-healing-2/
END:VEVENT
BEGIN:VEVENT
DTSTART;TZID=America/Phoenix:20211219T103000
DTEND;TZID=America/Phoenix:20211219T113000
DTSTAMP:20260423T233236
CREATED:20210921T195400Z
LAST-MODIFIED:20210921T195400Z
UID:7924-1639909800-1639913400@mvuu.org
SUMMARY:Fellowship Hour Online
DESCRIPTION:
URL:https://mvuu.org/event/fellowship-hour-online-43/
END:VEVENT
BEGIN:VEVENT
DTSTART;TZID=America/Phoenix:20211219T081500
DTEND;TZID=America/Phoenix:20211219T095000
DTSTAMP:20260423T233236
CREATED:20211008T192608Z
LAST-MODIFIED:20211008T192608Z
UID:8068-1639901700-1639907400@mvuu.org
SUMMARY:Sunday Book Group
DESCRIPTION:
URL:https://mvuu.org/event/sunday-book-group-22/
END:VEVENT
BEGIN:VEVENT
DTSTART;TZID=America/Phoenix:20211218T090000
DTEND;TZID=America/Phoenix:20211218T103000
DTSTAMP:20260423T233236
CREATED:20211220T162153Z
LAST-MODIFIED:20211220T162153Z
UID:8308-1639818000-1639823400@mvuu.org
SUMMARY:Family Day at MVUU
DESCRIPTION:
URL:https://mvuu.org/event/family-day-at-mvuu/
END:VEVENT
BEGIN:VEVENT
DTSTART;TZID=America/Phoenix:20211216T173000
DTEND;TZID=America/Phoenix:20211216T173000
DTSTAMP:20260423T233236
CREATED:20201212T002936Z
LAST-MODIFIED:20201212T002936Z
UID:6767-1639675800-1639675800@mvuu.org
SUMMARY:MVUU Board Meeting
DESCRIPTION:
URL:https://mvuu.org/event/mvuu-board-meeting-12/
END:VEVENT
BEGIN:VEVENT
DTSTART;TZID=America/Phoenix:20211214T190000
DTEND;TZID=America/Phoenix:20211214T200000
DTSTAMP:20260423T233236
CREATED:20211008T190114Z
LAST-MODIFIED:20211008T190114Z
UID:8023-1639508400-1639512000@mvuu.org
SUMMARY:Men's Night Out Online
DESCRIPTION:
URL:https://mvuu.org/event/mens-night-out-online-37/
END:VEVENT
BEGIN:VEVENT
DTSTART;TZID=America/Phoenix:20211212T103000
DTEND;TZID=America/Phoenix:20211212T113000
DTSTAMP:20260423T233236
CREATED:20210921T194344Z
LAST-MODIFIED:20210921T194344Z
UID:7891-1639305000-1639308600@mvuu.org
SUMMARY:Live Online Sunday Service & Fellowship Hour
DESCRIPTION:
URL:https://mvuu.org/event/live-online-sunday-service-fellowship-hour-6/
END:VEVENT
BEGIN:VEVENT
DTSTART;TZID=America/Phoenix:20211212T081500
DTEND;TZID=America/Phoenix:20211212T095000
DTSTAMP:20260423T233236
CREATED:20211008T192544Z
LAST-MODIFIED:20211008T192544Z
UID:8065-1639296900-1639302600@mvuu.org
SUMMARY:Sunday Book Group
DESCRIPTION:
URL:https://mvuu.org/event/sunday-book-group-21/
END:VEVENT
BEGIN:VEVENT
DTSTART;TZID=America/Phoenix:20211211T130000
DTEND;TZID=America/Phoenix:20211211T140000
DTSTAMP:20260423T233236
CREATED:20211203T173006Z
LAST-MODIFIED:20211203T182606Z
UID:8260-1639227600-1639231200@mvuu.org
SUMMARY:POPs Grown Up Meet Up
DESCRIPTION:
URL:https://mvuu.org/event/pops-grown-up-meet-up/
END:VEVENT
BEGIN:VEVENT
DTSTART;TZID=America/Phoenix:20211211T080000
DTEND;TZID=America/Phoenix:20211211T130000
DTSTAMP:20260423T233236
CREATED:20211203T171337Z
LAST-MODIFIED:20211203T171337Z
UID:8254-1639209600-1639227600@mvuu.org
SUMMARY:School Partnership Event
DESCRIPTION:
URL:https://mvuu.org/event/school-partnership-event/
END:VEVENT
BEGIN:VEVENT
DTSTART;TZID=America/Phoenix:20211211T080000
DTEND;TZID=America/Phoenix:20211211T130000
DTSTAMP:20260423T233236
CREATED:20211203T171303Z
LAST-MODIFIED:20211203T171303Z
UID:8251-1639209600-1639227600@mvuu.org
SUMMARY:MVUU Yard Sale
DESCRIPTION:
URL:https://mvuu.org/event/mvuu-yard-sale-2/
END:VEVENT
BEGIN:VEVENT
DTSTART;TZID=America/Phoenix:20211210T080000
DTEND;TZID=America/Phoenix:20211210T160000
DTSTAMP:20260423T233236
CREATED:20211203T171210Z
LAST-MODIFIED:20211203T171210Z
UID:8248-1639123200-1639152000@mvuu.org
SUMMARY:MVUU Yard Sale
DESCRIPTION:
URL:https://mvuu.org/event/mvuu-yard-sale/
END:VEVENT
BEGIN:VEVENT
DTSTART;TZID=America/Phoenix:20211209T190000
DTEND;TZID=America/Phoenix:20211209T200000
DTSTAMP:20260423T233236
CREATED:20211101T192431Z
LAST-MODIFIED:20211101T192431Z
UID:8162-1639076400-1639080000@mvuu.org
SUMMARY:Taproot: A National BIPOC Space
DESCRIPTION:
URL:https://mvuu.org/event/taproot-a-national-bipoc-space/
END:VEVENT
END:VCALENDAR